BEGIN:VCALENDAR
VERSION:2.0
PRODID:-//Skydance String Quartet • Oklahoma City Wedding Musicians - ECPv6.15.20//NONSGML v1.0//EN
CALSCALE:GREGORIAN
METHOD:PUBLISH
X-WR-CALNAME:Skydance String Quartet • Oklahoma City Wedding Musicians
X-ORIGINAL-URL:https://www.skydancequartet.com
X-WR-CALDESC:Events for Skydance String Quartet • Oklahoma City Wedding Musicians
REFRESH-INTERVAL;VALUE=DURATION:PT1H
X-Robots-Tag:noindex
X-PUBLISHED-TTL:PT1H
BEGIN:VTIMEZONE
TZID:UTC
BEGIN:STANDARD
TZOFFSETFROM:+0000
TZOFFSETTO:+0000
TZNAME:UTC
DTSTART:20250101T000000
END:STANDARD
END:VTIMEZONE
BEGIN:VEVENT
DTSTART;TZID=UTC:20260404T190000
DTEND;TZID=UTC:20260404T200000
DTSTAMP:20260420T043106
CREATED:20260407T150533Z
LAST-MODIFIED:20260407T150533Z
UID:1608-1775329200-1775332800@www.skydancequartet.com
SUMMARY:Candlelight: Tribute to ABBA & More
DESCRIPTION:⭐   Candlelight  concerts bring the magic of a live\, multi-sensory musical experience to awe-inspiring locations like never seen before in Tulsa. Get your tickets now to discover the music of Queen and ABBA at German American Society-Tulsa under the gentle glow of candlelight.   \n  General Info\n📍 Venue: German American Society-Tulsa\n📅 Dates and times: select your dates/times directly in the ticket selector\n⏳ Duration: 60 minutes. Doors open 60 minutes before the show. No entry once it starts.\n👤 Age requirement: 8 years old or older. Anyone under the age of 16 must be accompanied by an adult\n♿ Accessibility: this venue is ADA compliant\n❓ View the FAQs for this event  here\n🪑 Seating is assigned on a first come first served basis in each zone\n🕯️ If you would like to book a private concert or buy regular tickets for a large group (+30 people)\, click  here\n🎻 Check out all the  Candlelight concerts  in Tulsa\n🎁 To treat your friends and family to a Candlelight gift card\, click  here   \n  Tentative Program   \n	 Dancing Queen\n	 SOS\n	 Money\, Money\, Money\n	 Bohemian Rhapsody\n	 I Want to Break Free\n	 Waterloo\n	 Super Trouper\n	 Mamma Mia\n	 Don’t Stop Me Now\n	 We Will Rock You\n	 We Are the Champions  \n  Performers   \n	 Listeso String Quartet  \n  Seating Map   \n  \nProgram\n\nDancing Queen\nSOS\nMoney\, Money\, Money\nBohemian Rhapsody\nI Want to Break Free\nWaterloo\nSuper Trouper\nMamma Mia\nDon’t Stop Me Now\nWe Will Rock You\nWe Are the Champions\n\nEvent Details\n\nVenue: German American Society-Tulsa\nCity: Tulsa\nShowtimes: 8:45p\nPerformers: Listeso String Quartet\nTickets: From $40.69\n\nBuy Tickets  |  Get a Quote
URL:https://www.skydancequartet.com/concert/candlelight-tribute-to-abba-more/
LOCATION:German American Society-Tulsa\, Tulsa\, US
END:VEVENT
END:VCALENDAR