BEGIN:VCALENDAR
VERSION:2.0
PRODID:-//Skydance String Quartet • Oklahoma City Wedding Musicians - ECPv6.15.20//NONSGML v1.0//EN
CALSCALE:GREGORIAN
METHOD:PUBLISH
X-WR-CALNAME:Skydance String Quartet • Oklahoma City Wedding Musicians
X-ORIGINAL-URL:https://www.skydancequartet.com
X-WR-CALDESC:Events for Skydance String Quartet • Oklahoma City Wedding Musicians
REFRESH-INTERVAL;VALUE=DURATION:PT1H
X-Robots-Tag:noindex
X-PUBLISHED-TTL:PT1H
BEGIN:VTIMEZONE
TZID:UTC
BEGIN:STANDARD
TZOFFSETFROM:+0000
TZOFFSETTO:+0000
TZNAME:UTC
DTSTART:20250101T000000
END:STANDARD
END:VTIMEZONE
BEGIN:VEVENT
DTSTART;TZID=UTC:20260530T190000
DTEND;TZID=UTC:20260530T200000
DTSTAMP:20260420T060006
CREATED:20260407T145952Z
LAST-MODIFIED:20260407T145952Z
UID:1625-1780167600-1780171200@www.skydancequartet.com
SUMMARY:Candlelight: Tribute to Fleetwood Mac
DESCRIPTION:⭐   Candlelight  concerts bring the magic of a live\, multi-sensory musical experience to awe-inspiring locations like never seen before in Oklahoma City. Get your tickets now to discover the music of Fleetwood Mac at The Yale Theater under the gentle glow of candlelight.   \n  General Info\n📍 Venue: The Yale Theater\n📅 Dates and times: select your dates/times directly in the ticket selector\n⏳ Duration: 60 minutes. Doors open 60 minutes before the show. No entry once it starts.\n👤 Age requirement: 8 years old or older. Anyone under the age of 16 must be accompanied by an adult\n♿ Accessibility: this venue is ADA compliant\n❓ View the FAQs for this event  here\n🪑 Seating is assigned on a first come first served basis in each zone\n🕯️ If you would like to book a private concert or buy regular tickets for a large group (+30 people)\, click  here\n🎻 Check out all the  Candlelight concerts  in Oklahoma City\n🎁 To treat your friends and family to a Candlelight gift card\, click  here   \n  Tentative Program   \n	 Everywhere\n	 Gypsy\n	 You Make Loving Fun\n	 Never Going Back Again\n	 Don’t Stop\n	 Gold Dust Woman\n	 Go Your Own Way\n	 Landslide\n	 Little Lies\n	 Songbird\n	 Rhiannon\n	 The Chain\n	 Dreams\n	 Say You Love Me\n	 Second Hand News  \n Performers   \n	 Listeso String Quartet  \n  Seating Map   \nProgram\n\nEverywhere\nGypsy\nYou Make Loving Fun\nNever Going Back Again\nDon’t Stop\nGold Dust Woman\nGo Your Own Way\nLandslide\nLittle Lies\nSongbird\nRhiannon\nThe Chain\nDreams\nSay You Love Me\nSecond Hand News\n\nEvent Details\n\nVenue: The Yale Theater\nCity: Oklahoma City\nShowtimes: 6:30p\nPerformers: Listeso String Quartet\nTickets: From $39.11\n\nBuy Tickets  |  Get a Quote
URL:https://www.skydancequartet.com/concert/candlelight-tribute-to-fleetwood-mac/
LOCATION:The Yale Theater\, Oklahoma City\, US
END:VEVENT
END:VCALENDAR